Package: OncoSimulR Version: 4.11.1 Command: /home/biocbuild/R/R/bin/R CMD build --keep-empty-dirs --no-resave-data OncoSimulR StartedAt: 2025-10-03 01:58:14 -0000 (Fri, 03 Oct 2025) EndedAt: 2025-10-03 02:06:20 -0000 (Fri, 03 Oct 2025) EllapsedTime: 485.7 seconds RetCode: 0 Status: OK PackageFile: OncoSimulR_4.11.1.tar.gz PackageFileSize: 5.217 MiB