Package: OncoSimulR Version: 4.11.1 Command: /home/biocbuild/bbs-3.22-bioc/R/bin/R CMD check --install=check:OncoSimulR.install-out.txt --library=/home/biocbuild/bbs-3.22-bioc/R/site-library --timings OncoSimulR_4.11.1.tar.gz StartedAt: 2025-10-06 02:36:46 -0400 (Mon, 06 Oct 2025) EndedAt: 2025-10-06 02:43:18 -0400 (Mon, 06 Oct 2025) EllapsedTime: 391.5 seconds RetCode: 0 Status: OK CheckDir: OncoSimulR.Rcheck Warnings: 0