Package: OncoScore Version: 1.37.0 Command: chmod a+r OncoScore -R && F:\biocbuild\bbs-3.22-bioc\R\bin\R.exe CMD build --keep-empty-dirs --no-resave-data OncoScore StartedAt: 2025-08-14 22:01:13 -0400 (Thu, 14 Aug 2025) EndedAt: 2025-08-14 22:02:31 -0400 (Thu, 14 Aug 2025) EllapsedTime: 78.0 seconds RetCode: 0 Status: OK PackageFile: OncoScore_1.37.0.tar.gz PackageFileSize: 658.1 KiB