Package: OncoScore Version: 1.37.0 Command: /home/biocbuild/bbs-3.22-bioc/R/bin/R CMD check --install=check:OncoScore.install-out.txt --library=/home/biocbuild/bbs-3.22-bioc/R/site-library --timings OncoScore_1.37.0.tar.gz StartedAt: 2025-10-01 02:26:16 -0400 (Wed, 01 Oct 2025) EndedAt: 2025-10-01 02:28:32 -0400 (Wed, 01 Oct 2025) EllapsedTime: 136.1 seconds RetCode: 0 Status: OK CheckDir: OncoScore.Rcheck Warnings: 0