Package: OncoScore Version: 1.39.0 Command: /home/biocbuild/bbs-3.23-bioc/R/bin/R CMD INSTALL OncoScore StartedAt: 2025-11-20 15:58:38 -0500 (Thu, 20 Nov 2025) EndedAt: 2025-11-20 15:58:53 -0500 (Thu, 20 Nov 2025) EllapsedTime: 14.5 seconds RetCode: 0 Status: OK