Package: OmnipathR Version: 3.19.0 Command: /home/biocbuild/bbs-3.23-bioc/R/bin/R CMD INSTALL OmnipathR StartedAt: 2025-10-30 15:08:14 -0400 (Thu, 30 Oct 2025) EndedAt: 2025-10-30 15:08:35 -0400 (Thu, 30 Oct 2025) EllapsedTime: 21.6 seconds RetCode: 0 Status: OK