Package: OmnipathR Version: 3.19.0 Command: /home/biocbuild/bbs-3.23-bioc/R/bin/R CMD build --keep-empty-dirs --no-resave-data OmnipathR StartedAt: 2025-10-30 18:15:18 -0400 (Thu, 30 Oct 2025) EndedAt: 2025-10-30 18:28:28 -0400 (Thu, 30 Oct 2025) EllapsedTime: 789.8 seconds RetCode: 0 Status: OK PackageFile: OmnipathR_3.19.0.tar.gz PackageFileSize: 3.55 MiB