Package: OmnipathR Version: 3.19.2 Command: /Library/Frameworks/R.framework/Resources/bin/R CMD INSTALL OmnipathR StartedAt: 2025-11-21 15:15:37 -0500 (Fri, 21 Nov 2025) EndedAt: 2025-11-21 15:16:02 -0500 (Fri, 21 Nov 2025) EllapsedTime: 24.9 seconds RetCode: 0 Status: OK