Package: OmnipathR Version: 3.19.2 Command: /Library/Frameworks/R.framework/Resources/bin/R CMD build --keep-empty-dirs --no-resave-data OmnipathR StartedAt: 2025-11-21 18:02:02 -0500 (Fri, 21 Nov 2025) EndedAt: 2025-11-21 18:23:02 -0500 (Fri, 21 Nov 2025) EllapsedTime: 1259.6 seconds RetCode: 0 Status: OK PackageFile: OmnipathR_3.19.2.tar.gz PackageFileSize: 3.627 MiB