Package: OmnipathR Version: 3.19.2 Command: rm -rf OmnipathR.buildbin-libdir && mkdir OmnipathR.buildbin-libdir && /Users/biocbuild/BBS/utils/build-universal.sh OmnipathR_3.19.2.tar.gz /Library/Frameworks/R.framework/Resources/bin/R OmnipathR.buildbin-libdir StartedAt: 2025-11-22 01:47:59 -0500 (Sat, 22 Nov 2025) EndedAt: 2025-11-22 01:48:33 -0500 (Sat, 22 Nov 2025) EllapsedTime: 34.4 seconds RetCode: 0 Status: OK PackageFile: OmnipathR_3.19.2.tgz PackageFileSize: 3.739 MiB