Package: OmnipathR Version: 3.17.6 Command: rm -rf OmnipathR.buildbin-libdir && mkdir OmnipathR.buildbin-libdir && /Users/biocbuild/BBS/utils/build-universal.sh OmnipathR_3.17.6.tar.gz /Library/Frameworks/R.framework/Resources/bin/R OmnipathR.buildbin-libdir StartedAt: 2025-10-21 23:11:11 -0400 (Tue, 21 Oct 2025) EndedAt: 2025-10-21 23:11:20 -0400 (Tue, 21 Oct 2025) EllapsedTime: 9.2 seconds RetCode: 0 Status: OK PackageFile: OmnipathR_3.17.6.tgz PackageFileSize: 3.716 MiB