Package: Omixer Version: 1.21.0 Command: /home/biocbuild/bbs-3.23-bioc/R/bin/R CMD INSTALL Omixer StartedAt: 2025-10-31 15:16:49 -0400 (Fri, 31 Oct 2025) EndedAt: 2025-10-31 15:16:55 -0400 (Fri, 31 Oct 2025) EllapsedTime: 5.2 seconds RetCode: 0 Status: OK