Package: Omixer Version: 1.21.0 Command: /home/biocbuild/bbs-3.23-bioc/R/bin/R CMD build --keep-empty-dirs --no-resave-data Omixer StartedAt: 2025-10-31 19:13:48 -0400 (Fri, 31 Oct 2025) EndedAt: 2025-10-31 19:15:09 -0400 (Fri, 31 Oct 2025) EllapsedTime: 81.1 seconds RetCode: 0 Status: OK PackageFile: Omixer_1.21.0.tar.gz PackageFileSize: 1.428 MiB