Package: Omixer Version: 1.21.0 Command: /Library/Frameworks/R.framework/Resources/bin/R CMD INSTALL Omixer StartedAt: 2025-11-27 15:14:24 -0500 (Thu, 27 Nov 2025) EndedAt: 2025-11-27 15:14:49 -0500 (Thu, 27 Nov 2025) EllapsedTime: 25.0 seconds RetCode: 0 Status: OK