Package: Omixer Version: 1.21.0 Command: /Library/Frameworks/R.framework/Resources/bin/R CMD build --keep-empty-dirs --no-resave-data Omixer StartedAt: 2025-11-27 18:01:34 -0500 (Thu, 27 Nov 2025) EndedAt: 2025-11-27 18:03:02 -0500 (Thu, 27 Nov 2025) EllapsedTime: 88.0 seconds RetCode: 0 Status: OK PackageFile: Omixer_1.21.0.tar.gz PackageFileSize: 1.408 MiB