Package: Omixer Version: 1.21.0 Command: /Library/Frameworks/R.framework/Resources/bin/R CMD INSTALL Omixer StartedAt: 2025-11-21 15:05:08 -0500 (Fri, 21 Nov 2025) EndedAt: 2025-11-21 15:05:12 -0500 (Fri, 21 Nov 2025) EllapsedTime: 3.9 seconds RetCode: 0 Status: OK