Package: Omixer Version: 1.21.0 Command: /Library/Frameworks/R.framework/Resources/bin/R CMD build --keep-empty-dirs --no-resave-data Omixer StartedAt: 2025-11-20 17:12:12 -0500 (Thu, 20 Nov 2025) EndedAt: 2025-11-20 17:12:40 -0500 (Thu, 20 Nov 2025) EllapsedTime: 28.3 seconds RetCode: 0 Status: OK PackageFile: Omixer_1.21.0.tar.gz PackageFileSize: 1.409 MiB