Package: Omixer Version: 1.21.0 Command: rm -rf Omixer.buildbin-libdir && mkdir Omixer.buildbin-libdir && /Users/biocbuild/BBS/utils/build-universal.sh Omixer_1.21.0.tar.gz /Library/Frameworks/R.framework/Resources/bin/R Omixer.buildbin-libdir StartedAt: 2025-11-20 23:44:51 -0500 (Thu, 20 Nov 2025) EndedAt: 2025-11-20 23:44:55 -0500 (Thu, 20 Nov 2025) EllapsedTime: 4.1 seconds RetCode: 0 Status: OK PackageFile: Omixer_1.21.0.tgz PackageFileSize: 1.06 MiB