Package: OmicsMLRepoR Version: 1.5.0 Command: /home/biocbuild/bbs-3.23-bioc/R/bin/R CMD INSTALL OmicsMLRepoR StartedAt: 2025-10-31 15:22:15 -0400 (Fri, 31 Oct 2025) EndedAt: 2025-10-31 15:22:24 -0400 (Fri, 31 Oct 2025) EllapsedTime: 8.7 seconds RetCode: 0 Status: OK