Package: OmicsMLRepoR Version: 1.5.0 Command: /home/biocbuild/bbs-3.23-bioc/R/bin/R CMD check --install=check:OmicsMLRepoR.install-out.txt --library=/home/biocbuild/bbs-3.23-bioc/R/site-library --timings OmicsMLRepoR_1.5.0.tar.gz StartedAt: 2025-10-30 07:46:01 -0400 (Thu, 30 Oct 2025) EndedAt: 2025-10-30 07:48:58 -0400 (Thu, 30 Oct 2025) EllapsedTime: 177.4 seconds RetCode: 0 Status: OK CheckDir: OmicsMLRepoR.Rcheck Warnings: 0