Package: OmicsMLRepoR Version: 1.5.0 Command: /home/biocbuild/bbs-3.23-bioc/R/bin/R CMD build --keep-empty-dirs --no-resave-data OmicsMLRepoR StartedAt: 2025-10-31 19:13:16 -0400 (Fri, 31 Oct 2025) EndedAt: 2025-10-31 19:13:41 -0400 (Fri, 31 Oct 2025) EllapsedTime: 25.0 seconds RetCode: 1 Status: ERROR PackageFile: None PackageFileSize: NA