Package: OmicsMLRepoR Version: 1.3.3 Command: /Library/Frameworks/R.framework/Resources/bin/R CMD check --install=check:OmicsMLRepoR.install-out.txt --library=/Library/Frameworks/R.framework/Resources/library --no-vignettes --timings OmicsMLRepoR_1.3.3.tar.gz StartedAt: 2025-10-27 21:06:46 -0400 (Mon, 27 Oct 2025) EndedAt: 2025-10-27 21:07:39 -0400 (Mon, 27 Oct 2025) EllapsedTime: 52.6 seconds RetCode: 0 Status: OK CheckDir: OmicsMLRepoR.Rcheck Warnings: 0