Package: OmicCircos Version: 1.49.0 Command: /home/biocbuild/bbs-3.23-bioc/R/bin/R CMD INSTALL OmicCircos StartedAt: 2025-11-06 15:15:51 -0500 (Thu, 06 Nov 2025) EndedAt: 2025-11-06 15:16:01 -0500 (Thu, 06 Nov 2025) EllapsedTime: 10.3 seconds RetCode: 0 Status: OK