Package: OmicCircos Version: 1.49.0 Command: /home/biocbuild/bbs-3.23-bioc/R/bin/R CMD build --keep-empty-dirs --no-resave-data OmicCircos StartedAt: 2025-11-06 18:58:19 -0500 (Thu, 06 Nov 2025) EndedAt: 2025-11-06 18:58:44 -0500 (Thu, 06 Nov 2025) EllapsedTime: 25.0 seconds RetCode: 0 Status: OK PackageFile: OmicCircos_1.49.0.tar.gz PackageFileSize: 2.808 MiB