Package: OmicCircos Version: 1.47.0 Command: /Library/Frameworks/R.framework/Resources/bin/R CMD build --keep-empty-dirs --no-resave-data OmicCircos StartedAt: 2025-10-14 18:27:36 -0400 (Tue, 14 Oct 2025) EndedAt: 2025-10-14 18:28:24 -0400 (Tue, 14 Oct 2025) EllapsedTime: 48.3 seconds RetCode: 0 Status: OK PackageFile: OmicCircos_1.47.0.tar.gz PackageFileSize: 4.957 MiB