Package: OmaDB Version: 2.27.0 Command: /home/biocbuild/bbs-3.23-bioc/R/bin/R CMD INSTALL OmaDB StartedAt: 2025-11-23 15:40:19 -0500 (Sun, 23 Nov 2025) EndedAt: 2025-11-23 15:40:34 -0500 (Sun, 23 Nov 2025) EllapsedTime: 15.7 seconds RetCode: 0 Status: OK