Package: OmaDB Version: 2.25.0 Command: /Library/Frameworks/R.framework/Resources/bin/R CMD INSTALL OmaDB StartedAt: 2025-10-22 15:34:43 -0400 (Wed, 22 Oct 2025) EndedAt: 2025-10-22 15:35:05 -0400 (Wed, 22 Oct 2025) EllapsedTime: 21.9 seconds RetCode: 0 Status: OK