Package: OmaDB Version: 2.25.0 Command: /Library/Frameworks/R.framework/Resources/bin/R CMD build --keep-empty-dirs --no-resave-data OmaDB StartedAt: 2025-10-22 18:00:14 -0400 (Wed, 22 Oct 2025) EndedAt: 2025-10-22 18:00:41 -0400 (Wed, 22 Oct 2025) EllapsedTime: 27.5 seconds RetCode: 0 Status: OK PackageFile: OmaDB_2.25.0.tar.gz PackageFileSize: 98.15 KiB