Package: OmaDB Version: 2.25.0 Command: /Library/Frameworks/R.framework/Resources/bin/R CMD INSTALL OmaDB StartedAt: 2025-10-13 15:21:00 -0400 (Mon, 13 Oct 2025) EndedAt: 2025-10-13 15:21:06 -0400 (Mon, 13 Oct 2025) EllapsedTime: 6.4 seconds RetCode: 0 Status: OK