Package: OmaDB Version: 2.25.0 Command: /Library/Frameworks/R.framework/Resources/bin/R CMD build --keep-empty-dirs --no-resave-data OmaDB StartedAt: 2025-10-13 17:14:58 -0400 (Mon, 13 Oct 2025) EndedAt: 2025-10-13 17:15:09 -0400 (Mon, 13 Oct 2025) EllapsedTime: 11.1 seconds RetCode: 0 Status: OK PackageFile: OmaDB_2.25.0.tar.gz PackageFileSize: 98.16 KiB