Package: OmaDB Version: 2.25.0 Command: rm -rf OmaDB.buildbin-libdir && mkdir OmaDB.buildbin-libdir && /Users/biocbuild/BBS/utils/build-universal.sh OmaDB_2.25.0.tar.gz /Library/Frameworks/R.framework/Resources/bin/R OmaDB.buildbin-libdir StartedAt: 2025-10-13 22:52:10 -0400 (Mon, 13 Oct 2025) EndedAt: 2025-10-13 22:52:17 -0400 (Mon, 13 Oct 2025) EllapsedTime: 7.1 seconds RetCode: 0 Status: OK PackageFile: OmaDB_2.25.0.tgz PackageFileSize: 180.6 KiB