Package: OVESEG Version: 1.27.0 Command: /home/biocbuild/bbs-3.23-bioc/R/bin/R CMD INSTALL OVESEG StartedAt: 2025-10-31 15:25:41 -0400 (Fri, 31 Oct 2025) EndedAt: 2025-10-31 15:25:58 -0400 (Fri, 31 Oct 2025) EllapsedTime: 17.0 seconds RetCode: 0 Status: OK