Package: OVESEG Version: 1.27.0 Command: /home/biocbuild/bbs-3.23-bioc/R/bin/R CMD build --keep-empty-dirs --no-resave-data OVESEG StartedAt: 2025-10-31 19:18:57 -0400 (Fri, 31 Oct 2025) EndedAt: 2025-10-31 19:24:09 -0400 (Fri, 31 Oct 2025) EllapsedTime: 312.3 seconds RetCode: 0 Status: OK PackageFile: OVESEG_1.27.0.tar.gz PackageFileSize: 798.4 KiB