Package: OVESEG Version: 1.27.0 Command: /Library/Frameworks/R.framework/Resources/bin/R CMD INSTALL OVESEG StartedAt: 2025-11-21 15:24:20 -0500 (Fri, 21 Nov 2025) EndedAt: 2025-11-21 15:24:42 -0500 (Fri, 21 Nov 2025) EllapsedTime: 22.4 seconds RetCode: 0 Status: OK