Package: OVESEG Version: 1.27.0 Command: /Library/Frameworks/R.framework/Resources/bin/R CMD build --keep-empty-dirs --no-resave-data OVESEG StartedAt: 2025-11-20 18:05:08 -0500 (Thu, 20 Nov 2025) EndedAt: 2025-11-20 18:12:42 -0500 (Thu, 20 Nov 2025) EllapsedTime: 454.2 seconds RetCode: 0 Status: OK PackageFile: OVESEG_1.27.0.tar.gz PackageFileSize: 796.6 KiB