Package: OVESEG Version: 1.27.0 Command: rm -rf OVESEG.buildbin-libdir && mkdir OVESEG.buildbin-libdir && /Users/biocbuild/BBS/utils/build-universal.sh OVESEG_1.27.0.tar.gz /Library/Frameworks/R.framework/Resources/bin/R OVESEG.buildbin-libdir StartedAt: 2025-11-21 01:48:05 -0500 (Fri, 21 Nov 2025) EndedAt: 2025-11-21 01:48:30 -0500 (Fri, 21 Nov 2025) EllapsedTime: 25.4 seconds RetCode: 0 Status: OK PackageFile: OVESEG_1.27.0.tgz PackageFileSize: 875.6 KiB