Package: OVESEG Version: 1.25.0 Command: /Library/Frameworks/R.framework/Resources/bin/R CMD build --keep-empty-dirs --no-resave-data OVESEG StartedAt: 2025-10-23 17:20:02 -0400 (Thu, 23 Oct 2025) EndedAt: 2025-10-23 17:22:03 -0400 (Thu, 23 Oct 2025) EllapsedTime: 121.4 seconds RetCode: 0 Status: OK PackageFile: OVESEG_1.25.0.tar.gz PackageFileSize: 796.8 KiB