Package: OUTRIDER Version: 1.29.0 Command: /home/biocbuild/bbs-3.23-bioc/R/bin/R CMD build --keep-empty-dirs --no-resave-data OUTRIDER StartedAt: 2025-11-05 19:10:50 -0500 (Wed, 05 Nov 2025) EndedAt: 2025-11-05 19:16:58 -0500 (Wed, 05 Nov 2025) EllapsedTime: 367.4 seconds RetCode: 0 Status: OK PackageFile: OUTRIDER_1.29.0.tar.gz PackageFileSize: 2.611 MiB