Package: OUTRIDER Version: 1.27.4 Command: /Library/Frameworks/R.framework/Resources/bin/R CMD INSTALL OUTRIDER StartedAt: 2025-10-27 15:34:15 -0400 (Mon, 27 Oct 2025) EndedAt: 2025-10-27 15:35:34 -0400 (Mon, 27 Oct 2025) EllapsedTime: 79.7 seconds RetCode: 0 Status: OK