Package: OUTRIDER Version: 1.27.4 Command: /Library/Frameworks/R.framework/Resources/bin/R CMD build --keep-empty-dirs --no-resave-data OUTRIDER StartedAt: 2025-10-27 18:01:52 -0400 (Mon, 27 Oct 2025) EndedAt: 2025-10-27 18:09:46 -0400 (Mon, 27 Oct 2025) EllapsedTime: 473.9 seconds RetCode: 0 Status: OK PackageFile: OUTRIDER_1.27.4.tar.gz PackageFileSize: 2.502 MiB