Package: OUTRIDER Version: 1.27.4 Command: rm -rf OUTRIDER.buildbin-libdir && mkdir OUTRIDER.buildbin-libdir && /Users/biocbuild/BBS/utils/build-universal.sh OUTRIDER_1.27.4.tar.gz /Library/Frameworks/R.framework/Resources/bin/R OUTRIDER.buildbin-libdir StartedAt: 2025-10-25 01:54:39 -0400 (Sat, 25 Oct 2025) EndedAt: 2025-10-25 01:56:02 -0400 (Sat, 25 Oct 2025) EllapsedTime: 82.2 seconds RetCode: 0 Status: OK PackageFile: OUTRIDER_1.27.4.tgz PackageFileSize: 2.596 MiB