Package: OUTRIDER Version: 1.27.2 Command: /Library/Frameworks/R.framework/Resources/bin/R CMD INSTALL OUTRIDER StartedAt: 2025-10-05 15:21:36 -0400 (Sun, 05 Oct 2025) EndedAt: 2025-10-05 15:21:58 -0400 (Sun, 05 Oct 2025) EllapsedTime: 21.7 seconds RetCode: 0 Status: OK