Package: OUTRIDER Version: 1.27.2 Command: /Library/Frameworks/R.framework/Resources/bin/R CMD build --keep-empty-dirs --no-resave-data OUTRIDER StartedAt: 2025-10-05 17:18:39 -0400 (Sun, 05 Oct 2025) EndedAt: 2025-10-05 17:21:17 -0400 (Sun, 05 Oct 2025) EllapsedTime: 158.7 seconds RetCode: 0 Status: OK PackageFile: OUTRIDER_1.27.2.tar.gz PackageFileSize: 2.5 MiB