Package: OUTRIDER Version: 1.27.2 Command: rm -rf OUTRIDER.buildbin-libdir && mkdir OUTRIDER.buildbin-libdir && /Users/biocbuild/BBS/utils/build-universal.sh OUTRIDER_1.27.2.tar.gz /Library/Frameworks/R.framework/Resources/bin/R OUTRIDER.buildbin-libdir StartedAt: 2025-10-05 22:53:13 -0400 (Sun, 05 Oct 2025) EndedAt: 2025-10-05 22:53:36 -0400 (Sun, 05 Oct 2025) EllapsedTime: 23.6 seconds RetCode: 0 Status: OK PackageFile: OUTRIDER_1.27.2.tgz PackageFileSize: 2.583 MiB