Package: OTUbase Version: 1.61.0 Command: /home/biocbuild/bbs-3.23-bioc/R/bin/R CMD INSTALL OTUbase StartedAt: 2025-11-05 15:58:45 -0500 (Wed, 05 Nov 2025) EndedAt: 2025-11-05 15:59:15 -0500 (Wed, 05 Nov 2025) EllapsedTime: 30.3 seconds RetCode: 0 Status: OK