Package: OTUbase Version: 1.61.0 Command: /home/biocbuild/bbs-3.23-bioc/R/bin/R CMD build --keep-empty-dirs --no-resave-data OTUbase StartedAt: 2025-11-05 19:10:30 -0500 (Wed, 05 Nov 2025) EndedAt: 2025-11-05 19:12:01 -0500 (Wed, 05 Nov 2025) EllapsedTime: 91.1 seconds RetCode: 0 Status: OK PackageFile: OTUbase_1.61.0.tar.gz PackageFileSize: 179.2 KiB