Package: OTUbase Version: 1.59.0 Command: /Library/Frameworks/R.framework/Resources/bin/R CMD INSTALL OTUbase StartedAt: 2025-10-13 15:45:12 -0400 (Mon, 13 Oct 2025) EndedAt: 2025-10-13 15:45:56 -0400 (Mon, 13 Oct 2025) EllapsedTime: 43.4 seconds RetCode: 0 Status: OK