Package: OTUbase Version: 1.59.0 Command: /Library/Frameworks/R.framework/Resources/bin/R CMD build --keep-empty-dirs --no-resave-data OTUbase StartedAt: 2025-10-13 18:34:48 -0400 (Mon, 13 Oct 2025) EndedAt: 2025-10-13 18:37:48 -0400 (Mon, 13 Oct 2025) EllapsedTime: 179.6 seconds RetCode: 0 Status: OK PackageFile: OTUbase_1.59.0.tar.gz PackageFileSize: 178.5 KiB