Package: OTUbase Version: 1.59.0 Command: rm -rf OTUbase.buildbin-libdir && mkdir OTUbase.buildbin-libdir && /Users/biocbuild/BBS/utils/build-universal.sh OTUbase_1.59.0.tar.gz /Library/Frameworks/R.framework/Resources/bin/R OTUbase.buildbin-libdir StartedAt: 2025-10-14 02:58:45 -0400 (Tue, 14 Oct 2025) EndedAt: 2025-10-14 02:59:32 -0400 (Tue, 14 Oct 2025) EllapsedTime: 46.4 seconds RetCode: 0 Status: OK PackageFile: OTUbase_1.59.0.tgz PackageFileSize: 562.9 KiB