Package: OTUbase Version: 1.61.0 Maintainer: Daniel Beck MaintainerEmail: danlbek at gmail.com git_url: https://git.bioconductor.org/packages/OTUbase git_branch: devel git_last_commit: 42c921c git_last_commit_date: 2025-10-29 10:05:45 -0400 (Wed, 29 Oct 2025)